BEGIN:VCALENDAR
VERSION:2.0
PRODID:-//Water Skyball - ECPv6.0.6.2//NONSGML v1.0//EN
CALSCALE:GREGORIAN
METHOD:PUBLISH
X-WR-CALNAME:Water Skyball
X-ORIGINAL-URL:https://www.waterskyball.com
X-WR-CALDESC:Events for Water Skyball
REFRESH-INTERVAL;VALUE=DURATION:PT1H
X-Robots-Tag:noindex
X-PUBLISHED-TTL:PT1H
BEGIN:VTIMEZONE
TZID:UTC
BEGIN:STANDARD
TZOFFSETFROM:+0000
TZOFFSETTO:+0000
TZNAME:UTC
DTSTART:20200101T000000
END:STANDARD
END:VTIMEZONE
BEGIN:VEVENT
DTSTART;VALUE=DATE:20200904
DTEND;VALUE=DATE:20200905
DTSTAMP:20260423T193545
CREATED:20191127T104906Z
LAST-MODIFIED:20200905T190959Z
UID:853-1599177600-1599263999@www.waterskyball.com
SUMMARY:DOWN4 alapszakasz
DESCRIPTION:
URL:https://www.waterskyball.com/event/down4-alapszakasz/
LOCATION:Fontanus Sportközpont\, FL
CATEGORIES:Bajnokság
ATTACH;FMTTYPE=image/jpeg:https://www.waterskyball.com/wp-content/uploads/2019/11/gallery-image-2.jpg
END:VEVENT
END:VCALENDAR