BEGIN:VCALENDAR
VERSION:2.0
PRODID:-//Water Skyball - ECPv6.0.6.2//NONSGML v1.0//EN
CALSCALE:GREGORIAN
METHOD:PUBLISH
X-ORIGINAL-URL:https://www.waterskyball.com
X-WR-CALDESC:Events for Water Skyball
REFRESH-INTERVAL;VALUE=DURATION:PT1H
X-Robots-Tag:noindex
X-PUBLISHED-TTL:PT1H
BEGIN:VTIMEZONE
TZID:UTC
BEGIN:STANDARD
TZOFFSETFROM:+0000
TZOFFSETTO:+0000
TZNAME:UTC
DTSTART:20210101T000000
END:STANDARD
END:VTIMEZONE
BEGIN:VEVENT
DTSTART;TZID=UTC:20211128T080000
DTEND;TZID=UTC:20211128T170000
DTSTAMP:20260422T215011
CREATED:20191128T074849Z
LAST-MODIFIED:20200905T192301Z
UID:902-1638086400-1638118800@www.waterskyball.com
SUMMARY:UP4 alapszakasz
DESCRIPTION:megmérkőzik a 4 legjobb csapat
URL:https://www.waterskyball.com/event/up4-alapszakasz/
LOCATION:Fontanus Sportközpont\, FL
CATEGORIES:Bajnokság
ATTACH;FMTTYPE=image/jpeg:https://www.waterskyball.com/wp-content/uploads/2019/11/gallery-image-11.jpg
END:VEVENT
END:VCALENDAR